BEGIN:VCALENDAR
VERSION:2.0
PRODID:spatie/icalendar-generator
DESCRIPTION:Events from Kinship\, Adoptive and Foster Parent Association
X-WR-CALDESC:Events from Kinship\, Adoptive and Foster Parent Association
REFRESH-INTERVAL;VALUE=DURATION:PT1440M
X-PUBLISHED-TTL:PT1440M
BEGIN:VTIMEZONE
TZID:Etc/GMT+0
BEGIN:STANDARD
DTSTART:20200622T093000Z
TZOFFSETFROM:+0000
TZOFFSETTO:+0000
END:STANDARD
END:VTIMEZONE
BEGIN:VTIMEZONE
TZID:UTC
BEGIN:STANDARD
DTSTART:20250727T104940Z
TZOFFSETFROM:+0000
TZOFFSETTO:+0000
END:STANDARD
END:VTIMEZONE
BEGIN:VEVENT
UID:1608-3
DTSTAMP:20260423T104940Z
SUMMARY:Clothing Closet
LOCATION:Nuestra Casa/Ujirani/Asian Pacific Family Resource Center 591 Nort
 h King Road  San Jose CA 95133
ORGANIZER;CN=admin:MAILTO:eric.rynne@gmail.com
RRULE:FREQ=MONTHLY;BYDAY=3FR;COUNT=0
DTSTART;TZID=Etc/GMT+0:20210319T093000
DTEND;TZID=Etc/GMT+0:20210319T110000
X-ALT-DESC;FMTTYPE=TEXT/HTML:The Clothing Closet is a great resource to get
  clothes or donate to those families in need. Parents may choose up to 5 o
 utfits or 10 items of clothing per child in their care. If you want to vol
 unteer or need more information\, please call 408-501-6367.
CATEGORIES:General
URL;VALUE=URI:https://kafpa.org/mc-events/clothing-closet-3/?mc_id=1608
METHOD:PUBLISH
END:VEVENT
END:VCALENDAR